BEGIN:VCALENDAR
VERSION:2.0
PRODID:Events from alexandriagazette.com
X-WR-CALNAME:Events from alexandriagazette.com
X-WR-CALDESC:Events from alexandriagazette.com
BEGIN:VEVENT
SUMMARY:Waterfront Public Hearing
URL;VALUE=URI:http://www.alexandriagazette.com/events/2012/jan/21/waterfront-public-hearing/?et=4
DTSTART:20120121T093000
DESCRIPTION;ENCODING=QUOTED-PRINTABLE:The Alexandria City Council will cast a final vote on the controversial waterfront small-area plan.

END:VEVENT
END:VCALENDAR
